BEGIN:VCALENDAR
VERSION:2.0
PRODID:-//Kyo Autism Therapy - ECPv6.6.1//NONSGML v1.0//EN
CALSCALE:GREGORIAN
METHOD:PUBLISH
X-WR-CALNAME:Kyo Autism Therapy
X-ORIGINAL-URL:https://kyocare.com
X-WR-CALDESC:Events for Kyo Autism Therapy
REFRESH-INTERVAL;VALUE=DURATION:PT1H
X-Robots-Tag:noindex
X-PUBLISHED-TTL:PT1H
BEGIN:VTIMEZONE
TZID:America/Los_Angeles
BEGIN:DAYLIGHT
TZOFFSETFROM:-0800
TZOFFSETTO:-0700
TZNAME:PDT
DTSTART:20250309T100000
END:DAYLIGHT
BEGIN:STANDARD
TZOFFSETFROM:-0700
TZOFFSETTO:-0800
TZNAME:PST
DTSTART:20251102T090000
END:STANDARD
TZID:America/Denver
BEGIN:DAYLIGHT
TZOFFSETFROM:-0700
TZOFFSETTO:-0600
TZNAME:MDT
DTSTART:20250309T090000
END:DAYLIGHT
BEGIN:STANDARD
TZOFFSETFROM:-0600
TZOFFSETTO:-0700
TZNAME:MST
DTSTART:20251102T080000
END:STANDARD
END:VTIMEZONE
BEGIN:VEVENT
DTSTART;TZID=America/Los_Angeles:20250604T100000
DTEND;TZID=America/Los_Angeles:20250604T103000
DTSTAMP:20260421T045222
CREATED:20250521T154948Z
LAST-MODIFIED:20250521T155138Z
UID:10000283-1749031200-1749033000@kyocare.com
SUMMARY:Behavior Therapist Coffee with Kyo: Meet Our East Bay Team & Explore ABA Careers
DESCRIPTION:Curious about a career in Applied Behavior Analysis (ABA)? Looking for a meaningful role where you can make a difference in the lives of children with autism? Grab your favorite coffee (or tea!) and join us for a casual virtual chat to learn more about becoming a Behavior Therapist at Kyo! \n– No experience? No problem! We provide paid training and ongoing mentorship to set you up for success. \nDuring this relaxed conversation\, you’ll: \n✅ Learn what a day in the life of a Behavior Therapist looks like\n✅ Chat with a Regional Leader and gain insight into the ABA field\n✅ Discover our career growth opportunities\, mentorship\, and benefits\n✅ Get answers to any questions you have \nBonus Perk: Attend the event\, and we’ll send you a voucher for your favorite coffee or snack as a thank-you for your time! ☕ \n– Wednesday\, June 4th\n– Virtual – Join from anywhere!\n– 10:00 – 10:30 AM \nWhether you’re new to the ABA field or simply exploring career options\, this is the perfect chance to learn more and connect with a Regional Leader within our East Bay region. \nRSVP today — we can’t wait to meet you!
URL:https://kyocare.com/event/east_bay_bt_coffee_with_kyo/
LOCATION:Online
ATTACH;FMTTYPE=image/png:https://kyocare.com/wp-content/uploads/2024/09/Screenshot-2024-09-16-120343.png
ORGANIZER;CN="Kimberly Gutierrez":MAILTO:kimberlyg@kyocare.com
END:VEVENT
BEGIN:VEVENT
DTSTART;TZID=America/Denver:20250613T080000
DTEND;TZID=America/Denver:20250613T100000
DTSTAMP:20260421T045222
CREATED:20250602T153901Z
LAST-MODIFIED:20250602T153901Z
UID:10000286-1749801600-1749808800@kyocare.com
SUMMARY:Denver BCBAs: Join Kyo for Coffee at DIRT Coffee Bar in Littleton
DESCRIPTION:Denver BCBAs & Program Supervisors: Join Kyo’s clinical team for your morning pick me up in Littleton! \n📅 Date: Friday\, June 13\, 2025\n⏰ Time: 8:00 – 10:00 AM\n📍 Location: DIRT Coffee Bar: 5767 S Rapp St\, Littleton\, CO 80120 \nWhether you’re a seasoned BCBA or just starting down your BCBA journey\, this is the perfect opportunity to mingle\, share ideas\, and expand your network. Plus\, if you’re interested in career opportunities\, come explore our hybrid part-time & full-time\, remote\, and travel BCBA positions! \nCome for the networking and great conversations\, and stay for the fun. See you there! ✨
URL:https://kyocare.com/event/denver-bcbas-join-kyo-for-coffee-at-dirt-coffee-bar-in-littleton/
LOCATION:DIRT Coffee Bar\, 5767 S Rapp St\, Littleton\, CO\, 80120\, United States
ATTACH;FMTTYPE=image/jpeg:https://kyocare.com/wp-content/uploads/2025/06/5ca6e01544cece15f65e94865eb84f46.jpg
ORGANIZER;CN="Lisa M. Rodriguez%2C M.A.%2C BCBA%2C LBA":MAILTO:lisar@kyocare.com
END:VEVENT
BEGIN:VEVENT
DTSTART;TZID=America/Denver:20250613T113000
DTEND;TZID=America/Denver:20250613T120000
DTSTAMP:20260421T045222
CREATED:20250403T194713Z
LAST-MODIFIED:20250521T160024Z
UID:10000264-1749814200-1749816000@kyocare.com
SUMMARY:What is ABA and How Can it Help My Family?
DESCRIPTION:Join us for the final webinar in our Family Webinar Series. \n\n\nApplied Behavior Analysis (ABA) is an evidence-based therapy designed to increase independence and quality of life for children with autism and their families. At Kyo\, we take a child-centric\, naturalistic approach to ABA\, incorporating each child’s unique interests and goals into their therapy plan\, creating ways for family time to double as learning time. We partner with parents to help their kids develop the skills that are essential for a child to thrive. \n\nThis webinar will cover:\n\nWhat is ABA?\nWhat is Kyo’s child-centric\, naturalistic approach to ABA?\nWho benefits from ABA?\nHow does one access ABA?\nQuestion & Answer\n\n\n\nRSVP today to save your spot!
URL:https://kyocare.com/event/what-is-aba-and-how-can-it-help-my-family-3/
LOCATION:Online
ATTACH;FMTTYPE=image/png:https://kyocare.com/wp-content/uploads/2024/05/Screen-Shot-2024-05-02-at-12.02.04-PM.png
ORGANIZER;CN="Lisa M. Rodriguez%2C M.A.%2C BCBA%2C LBA":MAILTO:lisar@kyocare.com
END:VEVENT
BEGIN:VEVENT
DTSTART;TZID=America/Los_Angeles:20250624T110000
DTEND;TZID=America/Los_Angeles:20250624T120000
DTSTAMP:20260421T045222
CREATED:20250521T160945Z
LAST-MODIFIED:20250602T185708Z
UID:10000285-1750762800-1750766400@kyocare.com
SUMMARY:Behavior Therapist Coffee with Kyo: Meet Our Orange County Team & Explore ABA Careers
DESCRIPTION:Curious about a career in Applied Behavior Analysis (ABA)? Looking for a meaningful role where you can make a difference in the lives of children with autism? Grab your favorite coffee (or tea!) and join us for a casual virtual chat to learn more about becoming a Behavior Therapist at Kyo! \n– No experience? No problem! We provide paid training and ongoing mentorship to set you up for success. \nDuring this relaxed conversation\, you’ll: \n✅ Learn what a day in the life of a Behavior Therapist looks like\n✅ Chat with a Regional Leader and gain insight into the ABA field\n✅ Discover our career growth opportunities\, mentorship\, and benefits\n✅ Get answers to any questions you have \nWhether you’re new to the ABA field or simply exploring career options\, this is the perfect chance to learn more and connect with a Regional Leader within our Orange County / Long Beach region. \nRSVP today — we can’t wait to meet you!
URL:https://kyocare.com/event/orange_county_bt_coffee_with_kyo_june24th/
LOCATION:AOSA Coffee\, 16821 Algonquin St\, Huntington Beach\, CA\, 92649\, United States
ATTACH;FMTTYPE=image/png:https://kyocare.com/wp-content/uploads/2025/05/Screenshot-2025-06-02-105453.png
END:VEVENT
BEGIN:VEVENT
DTSTART;TZID=America/Los_Angeles:20250625T140000
DTEND;TZID=America/Los_Angeles:20250625T143500
DTSTAMP:20260421T045222
CREATED:20250617T222721Z
LAST-MODIFIED:20250617T230151Z
UID:10000287-1750860000-1750862100@kyocare.com
SUMMARY:Make This Summer Count: Career Chat Series
DESCRIPTION:Are you a student or recent grad exploring meaningful career options this summer? Join Kyo for Make This Summer Count: Career Chat Series\, a quick and informative session focused on launching your career in Applied Behavior Analysis (ABA). \nYou’ll learn more about what it’s like to work as a Behavior Technician or Program Supervisor at Kyo—where we empower children with autism and support their families across 12 states. We’ll cover daily responsibilities\, training and growth opportunities\, and what makes our team-driven\, mission-focused culture so unique. \nPlus\, you’ll have the opportunity to meet Sara\, our Talent Acquisition Specialist\, and Jordan Decker\, Talent Consultant\, who will share insights on what we look for in candidates and what makes Kyo’s culture unique. \nWhether you’re looking for part-time work or planning your post-grad path\, this is a great chance to ask questions and see if Kyo is the right fit for your next step. \nMake this summer count\, your career journey starts here!
URL:https://kyocare.com/event/make-this-summer-count-career-chat-series/
LOCATION:Online
ATTACH;FMTTYPE=image/jpeg:https://kyocare.com/wp-content/uploads/2024/08/Image-17-1.jpg
END:VEVENT
END:VCALENDAR