BEGIN:VCALENDAR
VERSION:2.0
PRODID:-//Kyo Autism Therapy - ECPv6.6.1//NONSGML v1.0//EN
CALSCALE:GREGORIAN
METHOD:PUBLISH
X-ORIGINAL-URL:https://kyocare.com
X-WR-CALDESC:Events for Kyo Autism Therapy
REFRESH-INTERVAL;VALUE=DURATION:PT1H
X-Robots-Tag:noindex
X-PUBLISHED-TTL:PT1H
BEGIN:VTIMEZONE
TZID:America/New_York
BEGIN:DAYLIGHT
TZOFFSETFROM:-0500
TZOFFSETTO:-0400
TZNAME:EDT
DTSTART:20240310T070000
END:DAYLIGHT
BEGIN:STANDARD
TZOFFSETFROM:-0400
TZOFFSETTO:-0500
TZNAME:EST
DTSTART:20241103T060000
END:STANDARD
TZID:America/Denver
BEGIN:DAYLIGHT
TZOFFSETFROM:-0700
TZOFFSETTO:-0600
TZNAME:MDT
DTSTART:20240310T090000
END:DAYLIGHT
BEGIN:STANDARD
TZOFFSETFROM:-0600
TZOFFSETTO:-0700
TZNAME:MST
DTSTART:20241103T080000
END:STANDARD
END:VTIMEZONE
BEGIN:VEVENT
DTSTART;TZID=America/New_York:20241019T090000
DTEND;TZID=America/New_York:20241019T110000
DTSTAMP:20260424T021300
CREATED:20240917T190700Z
LAST-MODIFIED:20240917T190700Z
UID:10000214-1729328400-1729335600@kyocare.com
SUMMARY:Playdate with Kyo's Miami Team at We Rock the Spectrum!
DESCRIPTION:Join Kyo’s Miami team for a fun-filled playdate at We Rock the Spectrum in North Miami! This event is open to all current Kyo families and community members\, but space is limited—so be sure to register! \n🎟 How to Join:\nClaim one of our 20 available spots by purchasing a free “ticket” on Eventbrite. \nWe can’t wait to see you and your little ones there for a day of play and connection! 😊 \nDon’t wait—register today!
URL:https://kyocare.com/event/playdate-with-kyos-miami-team-at-we-rock-the-spectrum/
LOCATION:We Rock the Spectrum – North Miami\, 13302 Biscayne Boulevard\, North Miami\, FL\, 33181\, United States
ATTACH;FMTTYPE=image/jpeg:https://kyocare.com/wp-content/uploads/2021/10/Copy-of-iStock-873751414-1-scaled.jpg
ORGANIZER;CN="Yudelkis Fuste%2C M.S.%2C BCBA - Miami Regional Director":MAILTO:yudi.fuste@kyocare.com
END:VEVENT
BEGIN:VEVENT
DTSTART;TZID=America/Denver:20241021T170000
DTEND;TZID=America/Denver:20241021T180000
DTSTAMP:20260424T021300
CREATED:20241015T210724Z
LAST-MODIFIED:20241015T210724Z
UID:10000225-1729530000-1729533600@kyocare.com
SUMMARY:Self-Care & Wellness Strategies for Parents
DESCRIPTION:Self-care is a crucial practice to allow parents and caregivers to be present and maintain their own wellbeing for their families. In this webinar\, we’ll share actionable coping strategies for parents to help you manage your stress and be present for your families in ways that are meaningful to you.\n\nKyo enables children with autism to reach their full potential through the delivery of customized ABA therapy. Our treatment methodology is based on the proven-effective behavior science of Applied Behavioral Analysis (ABA) and our therapy programs are tailored to the individual strengths and interests of each child. We are proud to be an in-network provider for most major health insurance programs. The Kyo team partners with parents and other professionals to deliver the highest quality of treatment possible for our clients and their families.
URL:https://kyocare.com/event/self-care-wellness-strategies-for-parents/
LOCATION:Online
ATTACH;FMTTYPE=image/jpeg:https://kyocare.com/wp-content/uploads/2023/06/benefit-3.jpeg
END:VEVENT
BEGIN:VEVENT
DTSTART;TZID=America/Denver:20241024T170000
DTEND;TZID=America/Denver:20241024T180000
DTSTAMP:20260424T021300
CREATED:20241015T182406Z
LAST-MODIFIED:20241015T182406Z
UID:10000224-1729789200-1729792800@kyocare.com
SUMMARY:Meet SLC's Kyo Team: ABA 101
DESCRIPTION:Hello Salt Lake City Community!\n\nAre you interested in learning about Applied Behavior Analysis (ABA)? ABA is an evidence-based therapy designed to increase independence and quality of life for children with autism and their families. At Kyo\, we take a child-centric\, naturalistic approach to ABA\, incorporating each child’s unique interests and goals into their therapy plan\, creating ways for family time to double as learning time. We partner with parents to help their kids develop the skills that are essential for a child to thrive.\n\nJoin our Regional Director in Salt Lake City\, Bridget Gaffney\, to get your questions about ABA answered! This is a great opportunity to connect with our passionate and supportive staff\, who are dedicated to fostering a culture of growth and excellence.\n\nWe look forward to connecting with you!
URL:https://kyocare.com/event/meet-slcs-kyo-team-aba-101-2/
LOCATION:Online
ATTACH;FMTTYPE=image/png:https://kyocare.com/wp-content/uploads/2024/05/Screen-Shot-2024-05-02-at-12.02.04-PM.png
END:VEVENT
BEGIN:VEVENT
DTSTART;TZID=America/New_York:20241030T190000
DTEND;TZID=America/New_York:20241030T200000
DTSTAMP:20260424T021300
CREATED:20241007T165509Z
LAST-MODIFIED:20241007T165509Z
UID:10000222-1730314800-1730318400@kyocare.com
SUMMARY:What is ABA and How Can it Help My Family Webinar
DESCRIPTION:Applied Behavior Analysis (ABA) is an evidence-based therapy designed to increase independence and quality of life for children with autism and their families. At Kyo\, we take a child-centric\, naturalistic approach to ABA\, incorporating each child’s unique interests and goals into their therapy plan\, creating ways for family time to double as learning time. We partner with parents to help their kids develop the skills that are essential for a child to thrive. \nThis webinar will cover: \n\nWhat is ABA?\nWhat is Kyo’s child-centric\, naturalistic approach to ABA?\nWho benefits from ABA?\nHow does one access ABA?\nQuestion & Answer\n\nWe will also be sharing some tips & tricks for a fun and safe Halloween.
URL:https://kyocare.com/event/what-is-aba-and-how-can-it-help-my-family-webinar/
ATTACH;FMTTYPE=image/jpeg:https://kyocare.com/wp-content/uploads/2023/06/Image-17-e1687804017927.jpg
ORGANIZER;CN="Yudelkis Fuste%2C M.S.%2C BCBA - Miami Regional Director":MAILTO:yudi.fuste@kyocare.com
END:VEVENT
END:VCALENDAR