BEGIN:VCALENDAR
VERSION:2.0
PRODID:-//Kyo Autism Therapy - ECPv6.6.1//NONSGML v1.0//EN
CALSCALE:GREGORIAN
METHOD:PUBLISH
X-WR-CALNAME:Kyo Autism Therapy
X-ORIGINAL-URL:https://kyocare.com
X-WR-CALDESC:Events for Kyo Autism Therapy
REFRESH-INTERVAL;VALUE=DURATION:PT1H
X-Robots-Tag:noindex
X-PUBLISHED-TTL:PT1H
BEGIN:VTIMEZONE
TZID:America/Los_Angeles
BEGIN:DAYLIGHT
TZOFFSETFROM:-0800
TZOFFSETTO:-0700
TZNAME:PDT
DTSTART:20240310T100000
END:DAYLIGHT
BEGIN:STANDARD
TZOFFSETFROM:-0700
TZOFFSETTO:-0800
TZNAME:PST
DTSTART:20241103T090000
END:STANDARD
TZID:America/Denver
BEGIN:DAYLIGHT
TZOFFSETFROM:-0700
TZOFFSETTO:-0600
TZNAME:MDT
DTSTART:20240310T090000
END:DAYLIGHT
BEGIN:STANDARD
TZOFFSETFROM:-0600
TZOFFSETTO:-0700
TZNAME:MST
DTSTART:20241103T080000
END:STANDARD
END:VTIMEZONE
BEGIN:VEVENT
DTSTART;TZID=America/Los_Angeles:20240717T120000
DTEND;TZID=America/Los_Angeles:20240717T130000
DTSTAMP:20260424T070241
CREATED:20240617T174706Z
LAST-MODIFIED:20240617T174706Z
UID:10000177-1721217600-1721221200@kyocare.com
SUMMARY:Closing the Gap: Teaching Toddlers with Delays to Connect and Communicate [PNW Summer Webinar Series]
DESCRIPTION:Each year\, one in four children under the age of five are identified as “at risk” for developmental delays. Oftentimes the most powerful agent for change is not the hours spent in a therapist’s office\, but the interactions between parent and child. Join Kyo to learn simple\, easy to use interventions that will allow you to help your child thrive. \nThis webinar will cover:\n•Easy to use tactics that promote increased communication and engagement\n•How to incorporate intentional learning opportunities throughout your natural routines\n•Other communication modalities\n•Question & Answer  \nKyo enables children with autism to reach their full potential through the delivery of customized ABA therapy. Our treatment methodology is based on the proven-effective behavior science of Applied Behavioral Analysis (ABA) and our therapy programs are tailored to the individual strengths and interests of each child. We are proud to be an in-network provider for most major health insurance programs. The Kyo team partners with parents and other professionals to deliver the highest quality of treatment possible for our clients and their families.
URL:https://kyocare.com/event/closing-the-gap-teaching-toddlers-with-delays-to-connect-and-communicate-pnw-summer-webinar-series/
LOCATION:Online
ATTACH;FMTTYPE=image/jpeg:https://kyocare.com/wp-content/uploads/2023/03/Back-to-School-family-doing-homework-copy.jpg
END:VEVENT
BEGIN:VEVENT
DTSTART;TZID=America/Denver:20240718T170000
DTEND;TZID=America/Denver:20240718T180000
DTSTAMP:20260424T070241
CREATED:20240617T175124Z
LAST-MODIFIED:20240617T175124Z
UID:10000178-1721322000-1721325600@kyocare.com
SUMMARY:Closing the Gap: Teaching Toddlers with Delays to Connect and Communicate
DESCRIPTION:Each year\, one in four children under the age of five are identified as “at risk” for developmental delays. Oftentimes the most powerful agent for change is not the hours spent in a therapist’s office\, but the interactions between parent and child. Join Kyo to learn simple\, easy to use interventions that will allow you to help your child thrive. \nThis webinar will cover:\n•Easy to use tactics that promote increased communication and engagement\n•How to incorporate intentional learning opportunities throughout your natural routines\n•Other communication modalities\n•Question & Answer \nKyo enables children with autism to reach their full potential through the delivery of customized ABA therapy. Our treatment methodology is based on the proven-effective behavior science of Applied Behavioral Analysis (ABA) and our therapy programs are tailored to the individual strengths and interests of each child. We are proud to be an in-network provider for most major health insurance programs. The Kyo team partners with parents and other professionals to deliver the highest quality of treatment possible for our clients and their families.
URL:https://kyocare.com/event/closing-the-gap-teaching-toddlers-with-delays-to-connect-and-communicate-2/
LOCATION:Online
ATTACH;FMTTYPE=image/jpeg:https://kyocare.com/wp-content/uploads/2023/03/GettyImages-1137054381-scaled.jpg
END:VEVENT
BEGIN:VEVENT
DTSTART;TZID=America/Denver:20240723T180000
DTEND;TZID=America/Denver:20240723T190000
DTSTAMP:20260424T070241
CREATED:20240722T161012Z
LAST-MODIFIED:20240722T161221Z
UID:10000197-1721757600-1721761200@kyocare.com
SUMMARY:Closing the Gap: Teaching Toddlers with Delays to Connect and Communicate
DESCRIPTION:Each year\, one in four children under the age of five are identified as “at risk” for developmental delays. Oftentimes the most powerful agent for change is not the hours spent in a therapist’s office\, but the interactions between parent and child. Join Kyo to learn simple\, easy to use interventions that will allow you to help your child thrive. \nThis webinar will cover:\n•Easy to use tactics that promote increased communication and engagement\n•How to incorporate intentional learning opportunities throughout your natural routines\n•Other communication modalities\n•Question & Answer \nKyo enables children with autism to reach their full potential through the delivery of customized ABA therapy. Our treatment methodology is based on the proven-effective behavior science of Applied Behavioral Analysis (ABA) and our therapy programs are tailored to the individual strengths and interests of each child. We are proud to be an in-network provider for most major health insurance programs. The Kyo team partners with parents and other professionals to deliver the highest quality of treatment possible for our clients and their families.
URL:https://kyocare.com/event/closing-the-gap-teaching-toddlers-with-delays-to-connect-and-communicate-2-copy/
LOCATION:Online
ATTACH;FMTTYPE=image/jpeg:https://kyocare.com/wp-content/uploads/2023/03/GettyImages-1137054381-scaled.jpg
END:VEVENT
BEGIN:VEVENT
DTSTART;TZID=America/Los_Angeles:20240729T120000
DTEND;TZID=America/Los_Angeles:20240729T130000
DTSTAMP:20260424T070241
CREATED:20240619T195947Z
LAST-MODIFIED:20240726T151301Z
UID:10000182-1722254400-1722258000@kyocare.com
SUMMARY:Current Research on ABA Dosage and Using Outcomes-Centric Approach
DESCRIPTION:This webinar will explore recent research on ABA treatment outcomes conducted by the Kyo team and how outcomes should be utilized to optimize clinical practice. Presenters will discuss methods for measuring treatment outcome and best practices for making objective decisions regarding dosage\, duration and discharge. Discussion will also include what this approach could mean for the future of ABA and inspire participants to think critically on applications of this to their own clinical practice in the future. \nKyo enables children with autism to reach their full potential through the delivery of customized ABA therapy. Our treatment methodology is based on the proven-effective behavior science of Applied Behavioral Analysis (ABA) and our therapy programs are tailored to the individual strengths and interests of each child. We are proud to be an in-network provider for most major health insurance programs. The Kyo team partners with parents and other professionals to deliver the highest quality of treatment possible for our clients and their families.
URL:https://kyocare.com/event/creating-structure-to-optimize-your-childs-daily-routine-2/
LOCATION:Online
ATTACH;FMTTYPE=image/jpeg:https://kyocare.com/wp-content/uploads/2023/06/Image-17-e1687804017927.jpg
END:VEVENT
END:VCALENDAR