BEGIN:VCALENDAR
VERSION:2.0
PRODID:-//Kyo Autism Therapy - ECPv6.6.1//NONSGML v1.0//EN
CALSCALE:GREGORIAN
METHOD:PUBLISH
X-WR-CALNAME:Kyo Autism Therapy
X-ORIGINAL-URL:https://kyocare.com
X-WR-CALDESC:Events for Kyo Autism Therapy
REFRESH-INTERVAL;VALUE=DURATION:PT1H
X-Robots-Tag:noindex
X-PUBLISHED-TTL:PT1H
BEGIN:VTIMEZONE
TZID:America/New_York
BEGIN:DAYLIGHT
TZOFFSETFROM:-0500
TZOFFSETTO:-0400
TZNAME:EDT
DTSTART:20240310T070000
END:DAYLIGHT
BEGIN:STANDARD
TZOFFSETFROM:-0400
TZOFFSETTO:-0500
TZNAME:EST
DTSTART:20241103T060000
END:STANDARD
TZID:America/Los_Angeles
BEGIN:DAYLIGHT
TZOFFSETFROM:-0800
TZOFFSETTO:-0700
TZNAME:PDT
DTSTART:20240310T100000
END:DAYLIGHT
BEGIN:STANDARD
TZOFFSETFROM:-0700
TZOFFSETTO:-0800
TZNAME:PST
DTSTART:20241103T090000
END:STANDARD
TZID:America/Phoenix
BEGIN:STANDARD
TZOFFSETFROM:-0700
TZOFFSETTO:-0700
TZNAME:MST
DTSTART:20240101T000000
END:STANDARD
END:VTIMEZONE
BEGIN:VEVENT
DTSTART;TZID=America/New_York:20240507T123000
DTEND;TZID=America/New_York:20240507T150000
DTSTAMP:20260424T102930
CREATED:20240422T152145Z
LAST-MODIFIED:20240422T202453Z
UID:10000168-1715085000-1715094000@kyocare.com
SUMMARY:Current Research on ABA Dosage & Using an Outcomes-Centric Approach
DESCRIPTION:This webinar will explore recent research on ABA treatment outcomes conducted by the Kyo team and how outcomes should be utilized to optimize clinical practice. Presenters will discuss methods for measuring treatment outcome and best practices for making objective decisions regarding dosage\, duration and discharge. Discussion will also include what this approach could mean for the future of ABA and inspire participants to think critically on applications of this to their own clinical practice in the future. \nIn the webinar participants will: \n-Evaluate recent research on outcomes in Applied Behavior Analysis therapy.\n-Identify clinical implications and best practices surrounding dosage\, duration\, and discharge driven by outcomes.\n-Apply concepts of ABA optimization to promote better therapeutic outcomes \nKyo enables children with autism to reach their full potential through the delivery of customized ABA therapy. Our treatment methodology is based on the proven-effective behavior science of Applied Behavioral Analysis (ABA) and our therapy programs are tailored to the individual strengths and interests of each child. We are proud to be an in-network provider for most major health insurance programs. The Kyo team partners with parents and other professionals to deliver the highest quality of treatment possible for our clients and their families.
URL:https://kyocare.com/event/current-research-on-aba-dosage-using-an-outcomes-centric-approach/
LOCATION:Online
ATTACH;FMTTYPE=image/jpeg:https://kyocare.com/wp-content/uploads/2023/08/Consultations-small.jpg
ORGANIZER;CN="Kyna Chambers%2C MS%2C BCBA & Lisa M. Rodriguez%2C M.A.%2C BCBA%2C LBA":MAILTO:kyna.chambers@kyocare.com
END:VEVENT
BEGIN:VEVENT
DTSTART;TZID=America/New_York:20240507T200000
DTEND;TZID=America/New_York:20240507T210000
DTSTAMP:20260424T102930
CREATED:20240319T154134Z
LAST-MODIFIED:20240319T154251Z
UID:10000155-1715112000-1715115600@kyocare.com
SUMMARY:What is ABA and How Can it Help My Family?
DESCRIPTION:Applied Behavior Analysis (ABA) is an evidence-based therapy designed to increase independence and quality of life for children with autism and their families. At Kyo\, we take a child-centric\, naturalistic approach to ABA\, incorporating each child’s unique interests and goals into their therapy plan\, creating ways for family time to double as learning time. We partner with parents to help their kids develop the skills that are essential for a child to thrive. \nThis webinar will cover: \n•What is ABA?\n•What is Kyo’s child-centric\, naturalistic approach to ABA?\n•Who benefits from ABA?\n•How does one access ABA?\n•Question & Answer \nKyo enables children with autism to reach their full potential through the delivery of customized ABA therapy. Our treatment methodology is based on the proven-effective behavior science of Applied Behavioral Analysis (ABA) and our therapy programs are tailored to the individual strengths and interests of each child. We are proud to be an in-network provider for most major health insurance programs. The Kyo team partners with parents and other professionals to deliver the highest quality of treatment possible for our clients and their families.
URL:https://kyocare.com/event/what-is-aba-and-how-can-it-help-my-family/
LOCATION:Online
ATTACH;FMTTYPE=image/jpeg:https://kyocare.com/wp-content/uploads/2023/08/Consultations-small.jpg
END:VEVENT
BEGIN:VEVENT
DTSTART;TZID=America/Los_Angeles:20240510T120000
DTEND;TZID=America/Los_Angeles:20240510T130000
DTSTAMP:20260424T102930
CREATED:20240228T232015Z
LAST-MODIFIED:20240323T004224Z
UID:10000152-1715342400-1715346000@kyocare.com
SUMMARY:Creating Structure to Optimize Your Child’s Daily Routine
DESCRIPTION:It can feel difficult to maintain your usual routines and even harder to implement new ones. Here you’ll learn strategies for re-establishing former routines and creating new ones to help optimize kids’ and parents’ time at home.
URL:https://kyocare.com/event/creating-structure-to-optimize-your-childs-daily-routine/
LOCATION:Online
ATTACH;FMTTYPE=image/jpeg:https://kyocare.com/wp-content/uploads/2023/03/Back-to-School-family-doing-homework-copy.jpg
ORGANIZER;CN="Grace Gayles%2C Kyo Portland Regional Director":MAILTO:graceg@kyocare.com
END:VEVENT
BEGIN:VEVENT
DTSTART;TZID=America/Phoenix:20240520T100000
DTEND;TZID=America/Phoenix:20240520T110000
DTSTAMP:20260424T102930
CREATED:20240102T153501Z
LAST-MODIFIED:20240102T161238Z
UID:10000129-1716199200-1716202800@kyocare.com
SUMMARY:Learning to Share with Peers - Phoenix Family First Resource Center
DESCRIPTION:Kyo is excited to partner with Phoenix Families First Resource Center to host an informative presentation series on behalf of at the Goblet A.C. Beuf Community Center where we’ll provide valuable information\, practical strategies\, and a supportive community for parents and caregivers. \nIn this presentation\, we’ll discuss how to equip yourself with practical insights and strategies that empower your child to navigate social interactions with confidence. Together\, let’s pave the way for meaningful friendships and positive social experiences that last a lifetime. \nTo save your seat\, email Milvia Sanchez: milvia.sanchez@phoenix.gov
URL:https://kyocare.com/event/learning-to-share-with-peers-phoenix-family-first-resource-center/
LOCATION:Goelet A.C. Beuf Community Center\, 3435 W Pinnacle Peak Rd\, Phoenix\, AZ\, 85027\, United States
ATTACH;FMTTYPE=image/jpeg:https://kyocare.com/wp-content/uploads/2023/03/GettyImages-1137054381-scaled.jpg
ORGANIZER;CN="Milvia Sanchez":MAILTO:milvia.sanchez@phoenix.gov
END:VEVENT
END:VCALENDAR