BEGIN:VCALENDAR
VERSION:2.0
PRODID:-//Kyo Autism Therapy - ECPv6.6.1//NONSGML v1.0//EN
CALSCALE:GREGORIAN
METHOD:PUBLISH
X-ORIGINAL-URL:https://kyocare.com
X-WR-CALDESC:Events for Kyo Autism Therapy
REFRESH-INTERVAL;VALUE=DURATION:PT1H
X-Robots-Tag:noindex
X-PUBLISHED-TTL:PT1H
BEGIN:VTIMEZONE
TZID:America/New_York
BEGIN:DAYLIGHT
TZOFFSETFROM:-0500
TZOFFSETTO:-0400
TZNAME:EDT
DTSTART:20250309T070000
END:DAYLIGHT
BEGIN:STANDARD
TZOFFSETFROM:-0400
TZOFFSETTO:-0500
TZNAME:EST
DTSTART:20251102T060000
END:STANDARD
END:VTIMEZONE
BEGIN:VEVENT
DTSTART;TZID=America/New_York:20251106T180000
DTEND;TZID=America/New_York:20251106T193000
DTSTAMP:20260421T045819
CREATED:20251029T234918Z
LAST-MODIFIED:20251106T205852Z
UID:10000315-1762452000-1762457400@kyocare.com
SUMMARY:Come Connect with Kyo's South Carolina Team
DESCRIPTION:Come Mingle with Kyo’s South Carolina Team! \nJoin us for a sweet evening of connection and conversation! Whether you’re already a seasoned clinicians or an aspiring Behavior Therapist curious about opportunities in ABA therapy\, this is your chance to meet our South Carolina team\, enjoy a bite\, and learn more about what makes Kyo a special place to work. \nAt Kyo\, we Make Every Moment Count\, for the children and families we serve\, and for our teammates who make it possible. \nThis casual event is a great way to: \n\nMeet local Behavior Therapists and BCBAs\nLearn about career paths and growth opportunities at Kyo\nAsk questions in a relaxed\, friendly setting\n\nWe’ll provide the appetizers and drinks. See you there!
URL:https://kyocare.com/event/come-connect-with-kyos-atlanta-team/
LOCATION:Pangaea Brewing at Unity Park – 115 Welborn St Suite A\, Greenville\, SC 29601\, 115 Welborn St\, Suite A\, Greenville\, SC\, 29601\, United States
ATTACH;FMTTYPE=image/png:https://kyocare.com/wp-content/uploads/2023/05/Happy-Hour-Photo.png
ORGANIZER;CN="Erin Steelman%2C M.S.%2C BCBA - Regional Director - Georgia and South Carolina":MAILTO:erinl@kyocare.com
END:VEVENT
END:VCALENDAR