BEGIN:VCALENDAR
VERSION:2.0
PRODID:-//Kyo Autism Therapy - ECPv6.6.1//NONSGML v1.0//EN
CALSCALE:GREGORIAN
METHOD:PUBLISH
X-WR-CALNAME:Kyo Autism Therapy
X-ORIGINAL-URL:https://kyocare.com
X-WR-CALDESC:Events for Kyo Autism Therapy
REFRESH-INTERVAL;VALUE=DURATION:PT1H
X-Robots-Tag:noindex
X-PUBLISHED-TTL:PT1H
BEGIN:VTIMEZONE
TZID:America/Los_Angeles
BEGIN:DAYLIGHT
TZOFFSETFROM:-0800
TZOFFSETTO:-0700
TZNAME:PDT
DTSTART:20250309T100000
END:DAYLIGHT
BEGIN:STANDARD
TZOFFSETFROM:-0700
TZOFFSETTO:-0800
TZNAME:PST
DTSTART:20251102T090000
END:STANDARD
END:VTIMEZONE
BEGIN:VEVENT
DTSTART;TZID=America/Los_Angeles:20250826T123000
DTEND;TZID=America/Los_Angeles:20250826T133000
DTSTAMP:20260421T064020
CREATED:20250801T203210Z
LAST-MODIFIED:20250801T203210Z
UID:10000295-1756211400-1756215000@kyocare.com
SUMMARY:Lunch with Kyo's Orange County Team
DESCRIPTION:Do you love working with kids? Are you looking for a career that’s meaningful\, flexible\, and full of growth potential? Do you enjoy FREE lunch? \nWhether you’re an experienced Behavior Technician\, a BCBA Trainee\, or brand-new to the field\, this relaxed\, drop-in event is your chance to connect\, learn\, and enjoy a some lunch on us. \n✨ Grow your career – Learn how Kyo supports your professional development and career advancement in the ABA field. \n💡 Make an impact – Discover how our Behavior Therapists (BTs) and Program Supervisors create meaningful change in the lives of children with autism. \n🤝 Enjoy flexibility & support – Meet our team and learn how Kyo offers a balanced\, adaptable work environment to fit your lifestyle. \n🙌 Connect & unwind – Chat with like-minded individuals\, make new friends\, and enjoy a free donut! \nThis event is a great way to explore opportunities\, ask questions\, and meet friendly faces from our Orange County regional team. Grab a friend and RSVP now\, we can’t wait to meet you!
URL:https://kyocare.com/event/lunch-with-kyos-orange-county-team/
LOCATION:Kyo’s Huntington Beach Office\, 16541 Gothard Street\, Suite 110\, Huntington Beach\, CA\, 92647\, United States
ATTACH;FMTTYPE=image/jpeg:https://kyocare.com/wp-content/uploads/2025/08/istockphoto-2000117676-612x612-1.jpg
ORGANIZER;CN="Cortlyn Morales":MAILTO:cortlyn.morales@kyocare.com
END:VEVENT
END:VCALENDAR