BEGIN:VCALENDAR
VERSION:2.0
PRODID:-//Kyo Autism Therapy - ECPv6.6.1//NONSGML v1.0//EN
CALSCALE:GREGORIAN
METHOD:PUBLISH
X-ORIGINAL-URL:https://kyocare.com
X-WR-CALDESC:Events for Kyo Autism Therapy
REFRESH-INTERVAL;VALUE=DURATION:PT1H
X-Robots-Tag:noindex
X-PUBLISHED-TTL:PT1H
BEGIN:VTIMEZONE
TZID:America/Los_Angeles
BEGIN:DAYLIGHT
TZOFFSETFROM:-0800
TZOFFSETTO:-0700
TZNAME:PDT
DTSTART:20250309T100000
END:DAYLIGHT
BEGIN:STANDARD
TZOFFSETFROM:-0700
TZOFFSETTO:-0800
TZNAME:PST
DTSTART:20251102T090000
END:STANDARD
END:VTIMEZONE
BEGIN:VEVENT
DTSTART;TZID=America/Los_Angeles:20250815T110000
DTEND;TZID=America/Los_Angeles:20250815T113500
DTSTAMP:20260421T031054
CREATED:20250729T221626Z
LAST-MODIFIED:20250729T221626Z
UID:10000293-1755255600-1755257700@kyocare.com
SUMMARY:Back to School\, Forward to Your Future: Career Paths Start Here
DESCRIPTION:As summer winds down and the school year ramps up\, it’s the perfect moment to reflect\, reset\, and look ahead. If you’ve been thinking about what comes next—how to find a career that’s both meaningful and rewarding—this event is for you. \nBack to School\, Forward to Your Future: Career Paths Start Here is a short and informative webinar designed to introduce you to the world of Applied Behavior Analysis (ABA) through the lens of Kyo\, a leading provider of autism services. \nHosted by Sara Felix\, Talent Acquisition Specialist\, and Ashley Bottiglieri\, Talent Consultant and Board Certified Behavior Analyst\, this 35-minute chat will give you a behind-the-scenes look at: \n\nWhat it’s like to work as a Behavior Technician or Program Supervisor\nHow your skills and passions can translate into a role that changes lives\nTips for starting your career journey with purpose and confidence\n\nJoin them Friday\, August 15\, from 11:00–11:35 AM Pacific Time. This webinar is hosted via Zoom\, so you can join from anywhere! \nStart your year strong and with intention.
URL:https://kyocare.com/event/back-to-school-forward-to-your-future-career-paths-start-here/
LOCATION:Online
ATTACH;FMTTYPE=image/png:https://kyocare.com/wp-content/uploads/2023/06/benefit-2.png
ORGANIZER;CN="Sara Felix%2C Talent Acquisition Specialist II":MAILTO:sarafe@kyocare.com
END:VEVENT
END:VCALENDAR