BEGIN:VCALENDAR
VERSION:2.0
PRODID:-//Kyo Autism Therapy - ECPv6.6.1//NONSGML v1.0//EN
CALSCALE:GREGORIAN
METHOD:PUBLISH
X-WR-CALNAME:Kyo Autism Therapy
X-ORIGINAL-URL:https://kyocare.com
X-WR-CALDESC:Events for Kyo Autism Therapy
REFRESH-INTERVAL;VALUE=DURATION:PT1H
X-Robots-Tag:noindex
X-PUBLISHED-TTL:PT1H
BEGIN:VTIMEZONE
TZID:America/New_York
BEGIN:DAYLIGHT
TZOFFSETFROM:-0500
TZOFFSETTO:-0400
TZNAME:EDT
DTSTART:20250309T070000
END:DAYLIGHT
BEGIN:STANDARD
TZOFFSETFROM:-0400
TZOFFSETTO:-0500
TZNAME:EST
DTSTART:20251102T060000
END:STANDARD
TZID:America/Los_Angeles
BEGIN:DAYLIGHT
TZOFFSETFROM:-0800
TZOFFSETTO:-0700
TZNAME:PDT
DTSTART:20250309T100000
END:DAYLIGHT
BEGIN:STANDARD
TZOFFSETFROM:-0700
TZOFFSETTO:-0800
TZNAME:PST
DTSTART:20251102T090000
END:STANDARD
END:VTIMEZONE
BEGIN:VEVENT
DTSTART;TZID=America/New_York:20250814T140000
DTEND;TZID=America/New_York:20250814T150000
DTSTAMP:20260421T045322
CREATED:20250801T230932Z
LAST-MODIFIED:20250801T230932Z
UID:10000296-1755180000-1755183600@kyocare.com
SUMMARY:Practical Behavior Management Tactics for Educators
DESCRIPTION:Join us for a free\, educator-focused webinar led by Carmen Albernas\, M.A.\, BCBA\, Behavior Analyst at Kyo. \nIn this session\, educators will learn how to modify the environment to better support student learning and promote positive behavior.  \nThis webinar will cover: \n\nHow to create an optimal environment for learning\nProactive\, easy-to-implement strategies for behavior management\nLive Q&A with a behavior expert\n\nWe’ll highlight effective classroom strategies such as visual cues\, setting clear expectations and using positive reinforcement systems to support lasting success. \nRSVP today to save your spot!
URL:https://kyocare.com/event/practical-behavior-management-tactics-for-educators/
LOCATION:Online
ATTACH;FMTTYPE=image/jpeg:https://kyocare.com/wp-content/uploads/2025/05/iStock-2165040677.jpg
ORGANIZER;CN="Carmen Albernas%2C M.A.%2C BCBA":MAILTO:carmen.albernas@kyocare.com
END:VEVENT
BEGIN:VEVENT
DTSTART;TZID=America/Los_Angeles:20250814T190000
DTEND;TZID=America/Los_Angeles:20250814T200000
DTSTAMP:20260421T045322
CREATED:20250801T201149Z
LAST-MODIFIED:20250801T201149Z
UID:10000294-1755198000-1755201600@kyocare.com
SUMMARY:Taco Thursday @ Mas Taco with Kyo's Sacramento Team
DESCRIPTION:Whether you’re an experienced Behavior Therapist\, RBT\, Program Supervisor\, BCBA — or simply curious about the rewarding field of ABA & ready to make a difference in the lives of children with autism — we’d love to meet you! \nJoin us at Mas Taco Bar in Sacramento for Taco Thursday\, where you can: \n☕ Discover Our Mission: Learn how you can create meaningful change in the lives of children with autism and their families. \n🚀 Explore Career Paths: Find out about exciting opportunities to grow your career with Kyo. \n🤝 Connect with Our Team: Meet our passionate and welcoming staff. Hear firsthand about Kyo’s culture of support\, growth\, and collaboration. \n🎓 Invest in Your Future: Learn about our training programs and professional development opportunities designed to help you thrive. \nBring a friend\, RSVP today\, and let us treat you! We can’t wait to meet you!
URL:https://kyocare.com/event/taco-thursday-mas-taco-with-kyos-sacramento-team/
LOCATION:Mas Taco Bar\, 1800 15th Street\, Suite D\, Sacramento\, CA\, 95811\, United States
ATTACH;FMTTYPE=image/jpeg:https://kyocare.com/wp-content/uploads/2025/08/Mas-Tacos-10-scaled-1-e1754079097435.jpg
ORGANIZER;CN="Raj Kaur%2C M.S.%2C BCBA - Clinical Director & Talent Consultant%2C Sacramento":MAILTO:rajwinderk@kyocare.com
END:VEVENT
END:VCALENDAR