BEGIN:VCALENDAR
VERSION:2.0
PRODID:-//Kyo Autism Therapy - ECPv6.6.1//NONSGML v1.0//EN
CALSCALE:GREGORIAN
METHOD:PUBLISH
X-WR-CALNAME:Kyo Autism Therapy
X-ORIGINAL-URL:https://kyocare.com
X-WR-CALDESC:Events for Kyo Autism Therapy
REFRESH-INTERVAL;VALUE=DURATION:PT1H
X-Robots-Tag:noindex
X-PUBLISHED-TTL:PT1H
BEGIN:VTIMEZONE
TZID:America/Denver
BEGIN:DAYLIGHT
TZOFFSETFROM:-0700
TZOFFSETTO:-0600
TZNAME:MDT
DTSTART:20240310T090000
END:DAYLIGHT
BEGIN:STANDARD
TZOFFSETFROM:-0600
TZOFFSETTO:-0700
TZNAME:MST
DTSTART:20241103T080000
END:STANDARD
END:VTIMEZONE
BEGIN:VEVENT
DTSTART;TZID=America/Denver:20241024T170000
DTEND;TZID=America/Denver:20241024T180000
DTSTAMP:20260424T034952
CREATED:20241015T182406Z
LAST-MODIFIED:20241015T182406Z
UID:10000224-1729789200-1729792800@kyocare.com
SUMMARY:Meet SLC's Kyo Team: ABA 101
DESCRIPTION:Hello Salt Lake City Community!\n\nAre you interested in learning about Applied Behavior Analysis (ABA)? ABA is an evidence-based therapy designed to increase independence and quality of life for children with autism and their families. At Kyo\, we take a child-centric\, naturalistic approach to ABA\, incorporating each child’s unique interests and goals into their therapy plan\, creating ways for family time to double as learning time. We partner with parents to help their kids develop the skills that are essential for a child to thrive.\n\nJoin our Regional Director in Salt Lake City\, Bridget Gaffney\, to get your questions about ABA answered! This is a great opportunity to connect with our passionate and supportive staff\, who are dedicated to fostering a culture of growth and excellence.\n\nWe look forward to connecting with you!
URL:https://kyocare.com/event/meet-slcs-kyo-team-aba-101-2/
LOCATION:Online
ATTACH;FMTTYPE=image/png:https://kyocare.com/wp-content/uploads/2024/05/Screen-Shot-2024-05-02-at-12.02.04-PM.png
END:VEVENT
END:VCALENDAR