BEGIN:VCALENDAR
VERSION:2.0
PRODID:-//Kyo Autism Therapy - ECPv6.6.1//NONSGML v1.0//EN
CALSCALE:GREGORIAN
METHOD:PUBLISH
X-WR-CALNAME:Kyo Autism Therapy
X-ORIGINAL-URL:https://kyocare.com
X-WR-CALDESC:Events for Kyo Autism Therapy
REFRESH-INTERVAL;VALUE=DURATION:PT1H
X-Robots-Tag:noindex
X-PUBLISHED-TTL:PT1H
BEGIN:VTIMEZONE
TZID:America/Los_Angeles
BEGIN:DAYLIGHT
TZOFFSETFROM:-0800
TZOFFSETTO:-0700
TZNAME:PDT
DTSTART:20240310T100000
END:DAYLIGHT
BEGIN:STANDARD
TZOFFSETFROM:-0700
TZOFFSETTO:-0800
TZNAME:PST
DTSTART:20241103T090000
END:STANDARD
END:VTIMEZONE
BEGIN:VEVENT
DTSTART;TZID=America/Los_Angeles:20240823T090000
DTEND;TZID=America/Los_Angeles:20240823T100000
DTSTAMP:20260424T070112
CREATED:20240617T180435Z
LAST-MODIFIED:20240617T180435Z
UID:10000180-1724403600-1724407200@kyocare.com
SUMMARY:Toilet Training: A Path to Success [PNW Summer Webinar Series]
DESCRIPTION:Using the toilet independently is an important accomplishment for every child. A little advanced preparation\, and knowledge of evidence-based techniques\, can go a long way in making the process faster and easier for children with special needs. \nThis webinar will cover:\n•Rapid Toilet Training\n•Non-Intensive Procedures\n•Bowel Training\n•Question & Answer \nKyo enables children with autism to reach their full potential through the delivery of customized ABA therapy. Our treatment methodology is based on the proven-effective behavior science of Applied Behavioral Analysis (ABA) and our therapy programs are tailored to the individual strengths and interests of each child. We are proud to be an in-network provider for most major health insurance programs. The Kyo team partners with parents and other professionals to deliver the highest quality of treatment possible for our clients and their families.
URL:https://kyocare.com/event/toilet-training-a-path-to-success-pnw-summer-webinar-series/
LOCATION:Online
ATTACH;FMTTYPE=image/jpeg:https://kyocare.com/wp-content/uploads/2022/01/iStock-1076078936-1024x683-1.jpeg
END:VEVENT
END:VCALENDAR