BEGIN:VCALENDAR
VERSION:2.0
PRODID:-//Kyo Autism Therapy - ECPv6.6.1//NONSGML v1.0//EN
CALSCALE:GREGORIAN
METHOD:PUBLISH
X-ORIGINAL-URL:https://kyocare.com
X-WR-CALDESC:Events for Kyo Autism Therapy
REFRESH-INTERVAL;VALUE=DURATION:PT1H
X-Robots-Tag:noindex
X-PUBLISHED-TTL:PT1H
BEGIN:VTIMEZONE
TZID:America/Los_Angeles
BEGIN:DAYLIGHT
TZOFFSETFROM:-0800
TZOFFSETTO:-0700
TZNAME:PDT
DTSTART:20240310T100000
END:DAYLIGHT
BEGIN:STANDARD
TZOFFSETFROM:-0700
TZOFFSETTO:-0800
TZNAME:PST
DTSTART:20241103T090000
END:STANDARD
END:VTIMEZONE
BEGIN:VEVENT
DTSTART;TZID=America/Los_Angeles:20240815T123000
DTEND;TZID=America/Los_Angeles:20240815T133000
DTSTAMP:20260424T070331
CREATED:20240620T195045Z
LAST-MODIFIED:20240620T195045Z
UID:10000184-1723725000-1723728600@kyocare.com
SUMMARY:Navigating Challenging Behaviors
DESCRIPTION:Have you ever wondered why your child exhibits challenging behavior and what you can do to change it? In this 30-minute webinar\, families will learn to identify the “why” of their child’s behavior. Parents will learn function-based strategies to support their child in learning to communicate their needs in more positive ways. \nThis webinar will cover:\n•Learn to find the “why” behind your child’s behavior\n•Question & Answer \nKyo enables children with autism to reach their full potential through the delivery of customized ABA therapy. Our treatment methodology is based on the proven-effective behavior science of Applied Behavioral Analysis (ABA) and our therapy programs are tailored to the individual strengths and interests of each child. We are proud to be an in-network provider for most major health insurance programs. The Kyo team partners with parents and other professionals to deliver the highest quality of treatment possible for our clients and their families.
URL:https://kyocare.com/event/navigating-challenging-behaviors/
LOCATION:Online
ATTACH;FMTTYPE=image/jpeg:https://kyocare.com/wp-content/uploads/2023/02/Family-making-art-scaled.jpg
END:VEVENT
END:VCALENDAR