BEGIN:VCALENDAR
VERSION:2.0
PRODID:-//Kyo Autism Therapy - ECPv6.6.1//NONSGML v1.0//EN
CALSCALE:GREGORIAN
METHOD:PUBLISH
X-ORIGINAL-URL:https://kyocare.com
X-WR-CALDESC:Events for Kyo Autism Therapy
REFRESH-INTERVAL;VALUE=DURATION:PT1H
X-Robots-Tag:noindex
X-PUBLISHED-TTL:PT1H
BEGIN:VTIMEZONE
TZID:America/Los_Angeles
BEGIN:DAYLIGHT
TZOFFSETFROM:-0800
TZOFFSETTO:-0700
TZNAME:PDT
DTSTART:20240310T100000
END:DAYLIGHT
BEGIN:STANDARD
TZOFFSETFROM:-0700
TZOFFSETTO:-0800
TZNAME:PST
DTSTART:20241103T090000
END:STANDARD
END:VTIMEZONE
BEGIN:VEVENT
DTSTART;TZID=America/Los_Angeles:20240805T160000
DTEND;TZID=America/Los_Angeles:20240805T170000
DTSTAMP:20260424T070415
CREATED:20240617T175342Z
LAST-MODIFIED:20240617T175342Z
UID:10000179-1722873600-1722877200@kyocare.com
SUMMARY:Strategies for a Better Night's Sleep [PNW Summer Webinar Series]
DESCRIPTION:Sleep issues commonly affect children\, especially those diagnosed with developmental disabilities. In this presentation\, you will learn to develop and implement strategies for improving your child’s sleep. \nThis webinar will cover:\n•Common sleep issues\n•Strategies for better sleep\n•Creating and implementing an individual sleep strategy plan\n•Question & Answer  \nKyo enables children with autism to reach their full potential through the delivery of customized ABA therapy. Our treatment methodology is based on the proven-effective behavior science of Applied Behavioral Analysis (ABA) and our therapy programs are tailored to the individual strengths and interests of each child. We are proud to be an in-network provider for most major health insurance programs. The Kyo team partners with parents and other professionals to deliver the highest quality of treatment possible for our clients and their families.
URL:https://kyocare.com/event/strategies-for-a-better-nights-sleep-pnw-summer-webinar-series/
LOCATION:Online
ATTACH;FMTTYPE=image/jpeg:https://kyocare.com/wp-content/uploads/2023/05/GettyImages-605764559-small.jpg
END:VEVENT
END:VCALENDAR