BEGIN:VCALENDAR
VERSION:2.0
PRODID:-//Kyo Autism Therapy - ECPv6.6.1//NONSGML v1.0//EN
CALSCALE:GREGORIAN
METHOD:PUBLISH
X-ORIGINAL-URL:https://kyocare.com
X-WR-CALDESC:Events for Kyo Autism Therapy
REFRESH-INTERVAL;VALUE=DURATION:PT1H
X-Robots-Tag:noindex
X-PUBLISHED-TTL:PT1H
BEGIN:VTIMEZONE
TZID:America/Los_Angeles
BEGIN:DAYLIGHT
TZOFFSETFROM:-0800
TZOFFSETTO:-0700
TZNAME:PDT
DTSTART:20240310T100000
END:DAYLIGHT
BEGIN:STANDARD
TZOFFSETFROM:-0700
TZOFFSETTO:-0800
TZNAME:PST
DTSTART:20241103T090000
END:STANDARD
END:VTIMEZONE
BEGIN:VEVENT
DTSTART;TZID=America/Los_Angeles:20240611T200000
DTEND;TZID=America/Los_Angeles:20240611T210000
DTSTAMP:20260424T103054
CREATED:20240611T150028Z
LAST-MODIFIED:20240319T192537Z
UID:10000156-1718136000-1718139600@kyocare.com
SUMMARY:Structuring Leisure Time: Beyond the iPad
DESCRIPTION:Having a difficult time keeping your child busy at home? In this presentation\, we’ll review how to design and implement a leisure activity schedule that provides increased structure for time at home. \nThis webinar will cover: \n•Selecting purposeful activities\n•Organizing materials\n•Using technology for active learning and social time\n•Question & Answer  \nKyo enables children with autism to reach their full potential through the delivery of customized ABA therapy. Our treatment methodology is based on the proven-effective behavior science of Applied Behavioral Analysis (ABA) and our therapy programs are tailored to the individual strengths and interests of each child. We are proud to be an in-network provider for most major health insurance programs. The Kyo team partners with parents and other professionals to deliver the highest quality of treatment possible for our clients and their families.
URL:https://kyocare.com/event/structuring-leisure-time-beyond-the-ipad-2/
LOCATION:Online
ATTACH;FMTTYPE=image/jpeg:https://kyocare.com/wp-content/uploads/2022/10/kyo-school-based-aba-therapy-services.jpg
ORGANIZER;CN="Lisa M. Rodriguez%2C M.A.%2C BCBA%2C LBA":MAILTO:lisar@kyocare.com
END:VEVENT
END:VCALENDAR